BEGIN:VCALENDAR
METHOD:PUBLISH
PRODID:-//Weblication CMS
VERSION:2.0
BEGIN:VEVENT
SUMMARY:Jubiläum - 150 Jahre Feuerwehr Mindelaltheim mit Fahrzeugsegnung
DTSTART:20270619T180000
DTEND:20270620T170000
DESCRIPTION:
LOCATION:Mindelaltheim
UID:https://www.vgem-hw.de/vg-haldenwang/veranstaltungen/termine/150-Jahre-Feuerwehr-Mindelaltheim-mit-Fahrzeugsegnung.php?uid=2511e98ca5a4eb1f7771bfa281acc156
URL:https://www.vgem-hw.de/vg-haldenwang/veranstaltungen/termine/150-Jahre-Feuerwehr-Mindelaltheim-mit-Fahrzeugsegnung.php
END:VEVENT
END:VCALENDAR