BEGIN:VCALENDAR
METHOD:PUBLISH
PRODID:-//Weblication CMS
VERSION:2.0
BEGIN:VEVENT
SUMMARY:Faschings Opening Party
DTSTART:20250111T000000
DESCRIPTION:Faschings Opening Sportheim Konzenberg Beginn 19:30
LOCATION:Konzenberg
UID:https://www.vgem-hw.de/vg-haldenwang/veranstaltungen/termine/Faschings-Opening-Party-1.php?uid=88220acedc46f5862bc266aa78b82e17
URL:https://www.vgem-hw.de/vg-haldenwang/veranstaltungen/termine/Faschings-Opening-Party-1.php
END:VEVENT
END:VCALENDAR