BEGIN:VCALENDAR
METHOD:PUBLISH
PRODID:-//Weblication CMS
VERSION:2.0
BEGIN:VEVENT
SUMMARY:Faschingsball / Draufzahlball 2025
DTSTART:20250118T200000
DESCRIPTION:Faschingsball mit den Hoberfeldtreiber im Gasthof "Zur Post" in Winterbach. -  Der Termin wurde von 11. Jan. wurde auf den 18. Jan. verschoben
LOCATION:Winterbach
UID:https://www.vgem-hw.de/vg-haldenwang/veranstaltungen/termine/Faschingsball-Draufzahlball-2025.php?uid=0482a646c81fdf6e587507287f7567bb
URL:https://www.vgem-hw.de/vg-haldenwang/veranstaltungen/termine/Faschingsball-Draufzahlball-2025.php
END:VEVENT
END:VCALENDAR