BEGIN:VCALENDAR
METHOD:PUBLISH
PRODID:-//Weblication CMS
VERSION:2.0
BEGIN:VEVENT
SUMMARY:Faschingskonzert Musikforum Notissimus 
DTSTART:20250110T000000
DESCRIPTION:nur für geladene Gäste! Hier zeigt unser Nachwuchs seinen Eltern und Großeltern, was sie bereits gelernt haben :-)
LOCATION:Dürrlauingen
UID:https://www.vgem-hw.de/vg-haldenwang/veranstaltungen/termine/Faschingskonzert-Musikforum-Notissimus.php?uid=df0b78d5136beeae1d8420cae1723184
URL:https://www.vgem-hw.de/vg-haldenwang/veranstaltungen/termine/Faschingskonzert-Musikforum-Notissimus.php
END:VEVENT
END:VCALENDAR