BEGIN:VCALENDAR
METHOD:PUBLISH
PRODID:-//Weblication CMS
VERSION:2.0
BEGIN:VEVENT
SUMMARY:Generalversammlung Seniorenclub Konzenberg
DTSTART:20250308T140000
DESCRIPTION:Gesellige Runde bei Kaffee und Kuchen
LOCATION:Konzenberg
UID:https://www.vgem-hw.de/vg-haldenwang/veranstaltungen/termine/Generalversammlung-Seniorenclub-Konzenberg.php?uid=7913c0768c898991123954bac0a8310d
URL:https://www.vgem-hw.de/vg-haldenwang/veranstaltungen/termine/Generalversammlung-Seniorenclub-Konzenberg.php
END:VEVENT
END:VCALENDAR