BEGIN:VCALENDAR
METHOD:PUBLISH
PRODID:-//Weblication CMS
VERSION:2.0
BEGIN:VEVENT
SUMMARY:Grillfest der Feuerwehr Mindelaltheim
DTSTART:20260621T111500
DESCRIPTION:
LOCATION:Mindelaltheim
UID:https://www.vgem-hw.de/vg-haldenwang/veranstaltungen/termine/Grillfest-der-Feuerwehr-Mindelaltheim-1.php?uid=ec77897dcad31cea152dde7535d1bc97
URL:https://www.vgem-hw.de/vg-haldenwang/veranstaltungen/termine/Grillfest-der-Feuerwehr-Mindelaltheim-1.php
END:VEVENT
END:VCALENDAR