BEGIN:VCALENDAR
METHOD:PUBLISH
PRODID:-//Weblication CMS
VERSION:2.0
BEGIN:VEVENT
SUMMARY:Grillfest der Feuerwehr Mindelaltheim
DTSTART:20260620T180000
DESCRIPTION:
LOCATION:Mindelaltheim
UID:https://www.vgem-hw.de/vg-haldenwang/veranstaltungen/termine/Grillfest-der-Feuerwehr-Mindelaltheim.php?uid=9d1882023e1ac6cbd6bbd1ec1a373deb
URL:https://www.vgem-hw.de/vg-haldenwang/veranstaltungen/termine/Grillfest-der-Feuerwehr-Mindelaltheim.php
END:VEVENT
END:VCALENDAR