BEGIN:VCALENDAR
METHOD:PUBLISH
PRODID:-//Weblication CMS
VERSION:2.0
BEGIN:VEVENT
SUMMARY:Hüttenzauber der Feuerwehr Mindelaltheim
DTSTART:20261219T180000
DESCRIPTION:
LOCATION:Mindelaltheim
UID:https://www.vgem-hw.de/vg-haldenwang/veranstaltungen/termine/Huettenzauber-der-Feuerwehr-Mindelaltheim.php?uid=227f50cbf4fa7d38ad0b30248e114e67
URL:https://www.vgem-hw.de/vg-haldenwang/veranstaltungen/termine/Huettenzauber-der-Feuerwehr-Mindelaltheim.php
END:VEVENT
END:VCALENDAR