BEGIN:VCALENDAR
METHOD:PUBLISH
PRODID:-//Weblication CMS
VERSION:2.0
BEGIN:VEVENT
SUMMARY:Jahreshauptversammlung Schützenverein Erlental Mönstetten 
DTSTART:20250322T200000
DESCRIPTION:
LOCATION:Mönstetten
UID:https://www.vgem-hw.de/vg-haldenwang/veranstaltungen/termine/Jahreshauptversammlung.php?uid=c00051151df07c06e554d408f8df4c53
URL:https://www.vgem-hw.de/vg-haldenwang/veranstaltungen/termine/Jahreshauptversammlung.php
END:VEVENT
END:VCALENDAR