BEGIN:VCALENDAR
METHOD:PUBLISH
PRODID:-//Weblication CMS
VERSION:2.0
BEGIN:VEVENT
SUMMARY:Jahreskonzert
DTSTART:20261128T000000
DESCRIPTION:Herzliche Einladung zum Jahreskonzert, am Vorabend des 1. Advents. Am Höhepunkt unseres Musikerjahres, laden wir ein zu moderner, konzertanter und traditioneller Musik! Das Jugendorchester des Musikforums Notissimus e.V. wird den Konzertabend eröffnen!  Beginn um 19:30 Uhr
LOCATION:Röfingen
UID:https://www.vgem-hw.de/vg-haldenwang/veranstaltungen/termine/Jahreskonzert-3.php?uid=af0266986c21b4e9d0ccacfd932c102e
URL:https://www.vgem-hw.de/vg-haldenwang/veranstaltungen/termine/Jahreskonzert-3.php
END:VEVENT
END:VCALENDAR