BEGIN:VCALENDAR
METHOD:PUBLISH
PRODID:-//Weblication CMS
VERSION:2.0
BEGIN:VEVENT
SUMMARY:Kartenvorverkauf für den DürrlariaBall
DTSTART:20260203T190000
DESCRIPTION:
LOCATION:Dürrlauingen
UID:https://www.vgem-hw.de/vg-haldenwang/veranstaltungen/termine/Kartenvorverkauf-fuer-den-Duerrlaria-Ball.php?uid=551b55bbcd965d8413937c72cda5e2d2
URL:https://www.vgem-hw.de/vg-haldenwang/veranstaltungen/termine/Kartenvorverkauf-fuer-den-Duerrlaria-Ball.php
END:VEVENT
END:VCALENDAR