BEGIN:VCALENDAR
METHOD:PUBLISH
PRODID:-//Weblication CMS
VERSION:2.0
BEGIN:VEVENT
SUMMARY:König- und Pokalschießen in Winterbach
DTSTART:20250321T190000
DESCRIPTION:wie freuen uns auf ihren Besuch
LOCATION:Winterbach
UID:https://www.vgem-hw.de/vg-haldenwang/veranstaltungen/termine/Koenig-und-Pokalschiessen-in-Winterbach.php?uid=f289a86e4f99633d72d438410d5efeaa
URL:https://www.vgem-hw.de/vg-haldenwang/veranstaltungen/termine/Koenig-und-Pokalschiessen-in-Winterbach.php
END:VEVENT
END:VCALENDAR