BEGIN:VCALENDAR
METHOD:PUBLISH
PRODID:-//Weblication CMS
VERSION:2.0
BEGIN:VEVENT
SUMMARY:Maibaumfest
DTSTART:20250430T180000
DESCRIPTION:
LOCATION:Röfingen
UID:https://www.vgem-hw.de/vg-haldenwang/veranstaltungen/termine/Maibaumfest-3.php?uid=41c28e28988eb350c300616455c43f11
URL:https://www.vgem-hw.de/vg-haldenwang/veranstaltungen/termine/Maibaumfest-3.php
END:VEVENT
END:VCALENDAR