BEGIN:VCALENDAR
METHOD:PUBLISH
PRODID:-//Weblication CMS
VERSION:2.0
BEGIN:VEVENT
SUMMARY:Maifeier der Feuerwehr Mindelaltheim 
DTSTART:20260430T180000
DESCRIPTION:Wir laden ein zum gemütlichen Beisammensein mit leckeren Käsespätzle, Feuerwurst, Rostbratwürstle, Fassbier und verschiedenen anderen Getränken.
LOCATION:Mindelaltheim
UID:https://www.vgem-hw.de/vg-haldenwang/veranstaltungen/termine/Maifeier-der-Feuerwehr-Mindelaltheim.php?uid=641597b168affbbfa6d71decdd078bba
URL:https://www.vgem-hw.de/vg-haldenwang/veranstaltungen/termine/Maifeier-der-Feuerwehr-Mindelaltheim.php
END:VEVENT
END:VCALENDAR