BEGIN:VCALENDAR
METHOD:PUBLISH
PRODID:-//Weblication CMS
VERSION:2.0
BEGIN:VEVENT
SUMMARY:Maifest der Feuerwehr Mönstetten
DTSTART:20250430T180000
DESCRIPTION:Alle freiwilligen Helfer treffen sich um 17.30 Uhr am Dorfplatz vor dem Bürgerhaus in Mönstetten. Um 18 Uhr beginnt das Aufstellen unseres Maibaums, zu dem alle Bürgerinnen und Bürger herzlich eingeladen sind, um bei zünftiger Bewirtung einige gemütliche Stunden am Bürgerhaus zu verbringen. Wir freuen uns auf zahlreiches Kommen und ein tolles Maifest in Mönstetten.
LOCATION:
UID:https://www.vgem-hw.de/vg-haldenwang/veranstaltungen/termine/Maifest-der-Feuerwehr-Moenstetten.php?uid=4845fe5afdb302332705eea1e30cb1dc
URL:https://www.vgem-hw.de/vg-haldenwang/veranstaltungen/termine/Maifest-der-Feuerwehr-Moenstetten.php
END:VEVENT
END:VCALENDAR