BEGIN:VCALENDAR
METHOD:PUBLISH
PRODID:-//Weblication CMS
VERSION:2.0
BEGIN:VEVENT
SUMMARY:Neujahrsanspielen
DTSTART:20251231T090000
DESCRIPTION:Alljährliches Neujahrsanspielen in Eichenhofen, Hafenhofen und Haldenwang
LOCATION:
UID:https://www.vgem-hw.de/vg-haldenwang/veranstaltungen/termine/Neujahrsanspielen-2.php?uid=92bd461eefa7a1da2a3c2b23691aa290
URL:https://www.vgem-hw.de/vg-haldenwang/veranstaltungen/termine/Neujahrsanspielen-2.php
END:VEVENT
END:VCALENDAR