BEGIN:VCALENDAR
METHOD:PUBLISH
PRODID:-//Weblication CMS
VERSION:2.0
BEGIN:VEVENT
SUMMARY:Silvestergrüße
DTSTART:20251231T100000
DESCRIPTION:Traditionell überbringt am letzten Tag des Jahres, die Musikkapelle den Bürgern von Röfingen und Roßhaupten ihre musikalischen Grüße zum Neuen Jahr!
LOCATION:
UID:https://www.vgem-hw.de/vg-haldenwang/veranstaltungen/termine/Silvestergruesse-2.php?uid=04eee643a3df0a0f1e45cbae162c3b26
URL:https://www.vgem-hw.de/vg-haldenwang/veranstaltungen/termine/Silvestergruesse-2.php
END:VEVENT
END:VCALENDAR