BEGIN:VCALENDAR
METHOD:PUBLISH
PRODID:-//Weblication CMS
VERSION:2.0
BEGIN:VEVENT
SUMMARY:Silvestergrüße
DTSTART:20261231T000000
DESCRIPTION:Traditionell überbringt am letzten Tag des Jahres, die Musikkapelle den Bürgern von Röfingen und Roßhaupten ihre musikalischen Grüße zum Neuen Jahr!
LOCATION:
UID:https://www.vgem-hw.de/vg-haldenwang/veranstaltungen/termine/Silvestergruesse-3.php?uid=12d8672d115dc1f22838356fc7eab93a
URL:https://www.vgem-hw.de/vg-haldenwang/veranstaltungen/termine/Silvestergruesse-3.php
END:VEVENT
END:VCALENDAR