BEGIN:VCALENDAR
METHOD:PUBLISH
PRODID:-//Weblication CMS
VERSION:2.0
BEGIN:VEVENT
SUMMARY:Silvesterlauf 
DTSTART:20251231T140000
DESCRIPTION:Wir laden alle die gerne Nordic-Walking betreiben oder auch ohne Stöcke laufen, sowie alle unsere Sportgruppen herzlich zu unserem Silvesterlauf am 31.12.2025 um 14 Uhr am Sportplatz in Landensberg ein. Wir laufen gemeinsam eine Runde und schließen das Jahr sportlich ab. Anschließend gemütliches Beisammensein bei Glühwein, Punsch und Sekt an der Sportplatzhütte. Über einen kleinen mitgebrachten Imbiss sowie eigene Tasse von jedem Teilnehmer würden wir uns sehr freuen. Wir freuen uns auf zahlreiche Läufer.
LOCATION:Landensberg
UID:https://www.vgem-hw.de/vg-haldenwang/veranstaltungen/termine/Silvesterlauf-1.php?uid=ca376f837cbe8e24b31bce82a2e49a06
URL:https://www.vgem-hw.de/vg-haldenwang/veranstaltungen/termine/Silvesterlauf-1.php
END:VEVENT
END:VCALENDAR