BEGIN:VCALENDAR
METHOD:PUBLISH
PRODID:-//Weblication CMS
VERSION:2.0
BEGIN:VEVENT
SUMMARY:Straßengaudi Haldenwanger Gaudi e.V.
DTSTART:20250215T110000
DESCRIPTION:🎉 Straßengaudi – Ein Fest der Farben und Freude! 🎉 Liebe Narren, seid dabei, wenn wir unsere farbenfrohe Straßengaudi feiern! Freut euch auf die Prämierung der besten und buntesten Kostüme – zeigt uns eure Kreativität und gewinnt tolle Preise! 🎭🏆 Natürlich gibt es auch leckeres Essen und einen Barbetrieb, der keine Wünsche offen lässt. 🍔🍹 Lasst euch von verschiedenen Tanzdarbietungen begeistern.  Gemeinsam feiern, gemeinsam fröhlich sein – das ist unser Motto! 🕺💃 Wir freuen uns auf Euch
LOCATION:Haldenwang
UID:https://www.vgem-hw.de/vg-haldenwang/veranstaltungen/termine/Strassengaudi-Haldenwanger-Gaudi-e-V.php?uid=e3fbd63da99f0ab010cb333d463aeaa6
URL:https://www.vgem-hw.de/vg-haldenwang/veranstaltungen/termine/Strassengaudi-Haldenwanger-Gaudi-e-V.php
END:VEVENT
END:VCALENDAR