BEGIN:VCALENDAR
METHOD:PUBLISH
PRODID:-//Weblication CMS
VERSION:2.0
BEGIN:VEVENT
SUMMARY:Weihnachtsschießen für Mitglieder Schützenverein Röfingen e.V.
DTSTART:20251219T190000
DESCRIPTION:
LOCATION:Röfingen
UID:https://www.vgem-hw.de/vg-haldenwang/veranstaltungen/termine/Weihnachtsschiessen-fuer-Mitglieder-1.php?uid=837e3a331f82f88996cbaa74b931a6d8
URL:https://www.vgem-hw.de/vg-haldenwang/veranstaltungen/termine/Weihnachtsschiessen-fuer-Mitglieder-1.php
END:VEVENT
END:VCALENDAR