BEGIN:VCALENDAR
METHOD:PUBLISH
PRODID:-//Weblication CMS
VERSION:2.0
BEGIN:VEVENT
SUMMARY:öffentlicher Schießabend
DTSTART:20250207T190000
DESCRIPTION:
LOCATION:Haldenwang
UID:https://www.vgem-hw.de/vg-haldenwang/veranstaltungen/termine/oeffentlicher-Schiessabend-2.php?uid=9db75f4a8bb263527f13c522bdac7df0
URL:https://www.vgem-hw.de/vg-haldenwang/veranstaltungen/termine/oeffentlicher-Schiessabend-2.php
END:VEVENT
END:VCALENDAR