BEGIN:VCALENDAR
METHOD:PUBLISH
PRODID:-//Weblication CMS
VERSION:2.0
BEGIN:VEVENT
SUMMARY:öffentlicher Schießabend (mit Gedächtnisschiessen)
DTSTART:20250321T190000
DESCRIPTION:
LOCATION:Haldenwang
UID:https://www.vgem-hw.de/vg-haldenwang/veranstaltungen/termine/oeffentlicher-Schiessabend-5.php?uid=53dab495315d42c5f468dffc179654b0
URL:https://www.vgem-hw.de/vg-haldenwang/veranstaltungen/termine/oeffentlicher-Schiessabend-5.php
END:VEVENT
END:VCALENDAR