BEGIN:VCALENDAR
METHOD:PUBLISH
PRODID:-//Weblication CMS
VERSION:2.0
BEGIN:VEVENT
SUMMARY:öffentlicher Schießabend
DTSTART:20250110T190000
DESCRIPTION:
LOCATION:Haldenwang
UID:https://www.vgem-hw.de/vg-haldenwang/veranstaltungen/termine/oeffentlicher-Schiessabend.php?uid=c590fe1a7173c4ac0a19b073624988d4
URL:https://www.vgem-hw.de/vg-haldenwang/veranstaltungen/termine/oeffentlicher-Schiessabend.php
END:VEVENT
END:VCALENDAR