BEGIN:VCALENDAR
METHOD:PUBLISH
PRODID:-//Weblication CMS
VERSION:2.0
BEGIN:VEVENT
SUMMARY:offenes Schießen Schützenverein Röfingen
DTSTART:20250103T140000
DESCRIPTION:
LOCATION:Röfingen
UID:https://www.vgem-hw.de/vg-haldenwang/veranstaltungen/termine/offenes-Schiessen-Schuetzenverein-Roefingen-4.php?uid=307c40ba004626d10b5f1dde00c07b77
URL:https://www.vgem-hw.de/vg-haldenwang/veranstaltungen/termine/offenes-Schiessen-Schuetzenverein-Roefingen-4.php
END:VEVENT
END:VCALENDAR