BEGIN:VCALENDAR
METHOD:PUBLISH
PRODID:-//Weblication CMS
VERSION:2.0
BEGIN:VEVENT
SUMMARY:offenes Weihnachtsschießen
DTSTART:20251228T160000
DESCRIPTION:
LOCATION:Röfingen
UID:https://www.vgem-hw.de/vg-haldenwang/veranstaltungen/termine/offenes-Weihnachtsschiessen-1.php?uid=a3855aeb134321b490fdeb1d4501126e
URL:https://www.vgem-hw.de/vg-haldenwang/veranstaltungen/termine/offenes-Weihnachtsschiessen-1.php
END:VEVENT
END:VCALENDAR